BEGIN:VCALENDAR
VERSION:2.0
PRODID:-//Essevesse - ECPv6.15.20//NONSGML v1.0//EN
CALSCALE:GREGORIAN
METHOD:PUBLISH
X-WR-CALNAME:Essevesse
X-ORIGINAL-URL:https://essevesse.com
X-WR-CALDESC:Évènements pour Essevesse
REFRESH-INTERVAL;VALUE=DURATION:PT1H
X-Robots-Tag:noindex
X-PUBLISHED-TTL:PT1H
BEGIN:VTIMEZONE
TZID:Europe/Paris
BEGIN:DAYLIGHT
TZOFFSETFROM:+0100
TZOFFSETTO:+0200
TZNAME:CEST
DTSTART:20230326T010000
END:DAYLIGHT
BEGIN:STANDARD
TZOFFSETFROM:+0200
TZOFFSETTO:+0100
TZNAME:CET
DTSTART:20231029T010000
END:STANDARD
BEGIN:DAYLIGHT
TZOFFSETFROM:+0100
TZOFFSETTO:+0200
TZNAME:CEST
DTSTART:20240331T010000
END:DAYLIGHT
BEGIN:STANDARD
TZOFFSETFROM:+0200
TZOFFSETTO:+0100
TZNAME:CET
DTSTART:20241027T010000
END:STANDARD
BEGIN:DAYLIGHT
TZOFFSETFROM:+0100
TZOFFSETTO:+0200
TZNAME:CEST
DTSTART:20250330T010000
END:DAYLIGHT
BEGIN:STANDARD
TZOFFSETFROM:+0200
TZOFFSETTO:+0100
TZNAME:CET
DTSTART:20251026T010000
END:STANDARD
END:VTIMEZONE
BEGIN:VEVENT
DTSTART;TZID=Europe/Paris:20240410T173000
DTEND;TZID=Europe/Paris:20240410T193000
DTSTAMP:20260420T173105
CREATED:20240311T094409Z
LAST-MODIFIED:20240327T130853Z
UID:10000085-1712770200-1712777400@essevesse.com
SUMMARY:Atelier Danses-en-Trans
DESCRIPTION:Sensibles à la question de l’identité et des diversités\, Antonino et Fabio s’engagent à ouvrir un espace de danse pour les personnes trans\, non-binaires et en questionnement d’identité de genre. À travers la danse\, ils œuvrent pour un espace d’inclusion. Fabio et Antonino ne sont pas trans\, cependant\, ils ont à cœur de s’allier à cette communauté à travers ce qu’ils peuvent partager : un espace de danse\, de soin\, de découverte et de liberté d’expression (en intimité et en scène)\, privilégiant le respect des singularités de chaque être et du groupe. \n\n\n\nChaque atelier s’articule en deux moments : \n\n\n\n– Un temps pour se retrouver et rencontrer les autres à travers des activités d’exploration en mouvement\, ouvert à toustes (pas de techniques ou habilités physiques requises\, pas de recherche de beauté « classique »). \n\n\n\n– Un temps de recherche et de composition chorégraphique à travers des activités créative\, seul.e et en groupe.Durant ce temps\, les chorégraphes partagent des outils d’écriture d’espace et de mouvement. \n\n\n\nPour celleux qui le souhaitent\, Antonino et Fabio ouvrent un temps pour la scène le 17 mai (journée mondiale de lutte contre la transphobie et l’homophobie) au HangArt (mairie du 4eme/5eme arrondissement) pour tout public. \n\n\n\nAu programme :– une pièce amateur.ice qu’ils auront créée avec le groupe participant aux ateliers\, notamment avec un temps fort de création les week-ends suivants :3-4-5 mai 2024\, de 14h à 18h\, à Klap Maison Pour la Danse10-11-12 mai 2024 de 14h à 18h\, au centre LGBTQIA+ \n\n\n\n– une scène ouverte pour toute personne trans\, non-binaire et en questionnement d’identité de genre.Chaque performance devra durer entre 2 et 10 min (solo ou duo) et un maximum de 15 min pour les groupes. \n\n\n\nInscription gratuite et obligatoire à essevesse@gmail.com \n\n\n\n« L’important dans cette rencontre\, c’est le mouvement entre corps et esprit. Le corps dans sa reconnaissance intime\, à travers son propre regard et celui de l’Autre. Le corps dans sa transition permanente\, le corps transformé\, le corps comme expérience sociale\, un mouvement de la psyché vers le corps et du corps vers la psyché. Le mouvement\, porteur d’un message de liberté » \n\n\n\nAntonino CERESIA & Fabio DOLCE
URL:https://essevesse.com/event/12881/2024-04-10/
LOCATION:Centre LGBTQIA+ Marseille\, 17-21 rue du Chevalier Roze\, Marseille\, 13002\, France
ATTACH;FMTTYPE=image/png:https://essevesse.com/wp-content/uploads/2023/12/PIED.png
END:VEVENT
END:VCALENDAR