BEGIN:VCALENDAR
VERSION:2.0
PRODID:-//Essevesse - ECPv6.15.20//NONSGML v1.0//EN
CALSCALE:GREGORIAN
METHOD:PUBLISH
X-WR-CALNAME:Essevesse
X-ORIGINAL-URL:https://essevesse.com
X-WR-CALDESC:Évènements pour Essevesse
REFRESH-INTERVAL;VALUE=DURATION:PT1H
X-Robots-Tag:noindex
X-PUBLISHED-TTL:PT1H
BEGIN:VTIMEZONE
TZID:Europe/Paris
BEGIN:DAYLIGHT
TZOFFSETFROM:+0100
TZOFFSETTO:+0200
TZNAME:CEST
DTSTART:20230326T010000
END:DAYLIGHT
BEGIN:STANDARD
TZOFFSETFROM:+0200
TZOFFSETTO:+0100
TZNAME:CET
DTSTART:20231029T010000
END:STANDARD
BEGIN:DAYLIGHT
TZOFFSETFROM:+0100
TZOFFSETTO:+0200
TZNAME:CEST
DTSTART:20240331T010000
END:DAYLIGHT
BEGIN:STANDARD
TZOFFSETFROM:+0200
TZOFFSETTO:+0100
TZNAME:CET
DTSTART:20241027T010000
END:STANDARD
BEGIN:DAYLIGHT
TZOFFSETFROM:+0100
TZOFFSETTO:+0200
TZNAME:CEST
DTSTART:20250330T010000
END:DAYLIGHT
BEGIN:STANDARD
TZOFFSETFROM:+0200
TZOFFSETTO:+0100
TZNAME:CET
DTSTART:20251026T010000
END:STANDARD
END:VTIMEZONE
BEGIN:VEVENT
DTSTART;TZID=Europe/Paris:20240403T170000
DTEND;TZID=Europe/Paris:20240403T203000
DTSTAMP:20260420T142732
CREATED:20240116T155213Z
LAST-MODIFIED:20240322T095431Z
UID:10000080-1712163600-1712176200@essevesse.com
SUMMARY:Présentation de la nouvelle application mobile – DASS APP Mind Yourself à Klap\, Marseille
DESCRIPTION:Fabio et Antonino présenteront les outils développés durant le projet européen en partenariat stratégique DASS\, Danse Contre le Stress : \n\n\n\n\nUn Manuel de formation sur l’utilisation de la danse et d’autres outils créatifs contre le stress chez les jeunes\,  à destination de tout.e travailleur.euse de la jeunesse \n\n\n\nAPP DASS Mind-Yourself \, un outil créatif contre le STRESS\, disponible gratuitement en 6 langues\, à destination des jeunes\n\n\n\n\nC’est un projet cofinancé par le programme ERASMUS+ et en partenariat avec des psychologues\, des art et danse-thérapeutes et des expert.e.s dans l’éducation alternative entre la Pologne\, la Grèce\, la Lituanie\, l’Italie et la France. \n\n\n\nPour s’inscrire\, merci d’envoyer un mail à essevesse@gmail.com \n\n\n\nÉvènement gratuit.
URL:https://essevesse.com/event/presentation-de-la-nouvelle-application-mobile-dass-app-mind-yourself/
LOCATION:Klap maison pour la danse\, 5 avenue Rostand\, Marseille\, 13003\, France
ATTACH;FMTTYPE=image/jpeg:https://essevesse.com/wp-content/uploads/2023/11/dass-02-scaled.jpg
END:VEVENT
END:VCALENDAR