BEGIN:VCALENDAR
VERSION:2.0
PRODID:-//Essevesse - ECPv6.15.20//NONSGML v1.0//EN
CALSCALE:GREGORIAN
METHOD:PUBLISH
X-WR-CALNAME:Essevesse
X-ORIGINAL-URL:https://essevesse.com
X-WR-CALDESC:Évènements pour Essevesse
REFRESH-INTERVAL;VALUE=DURATION:PT1H
X-Robots-Tag:noindex
X-PUBLISHED-TTL:PT1H
BEGIN:VTIMEZONE
TZID:Europe/Paris
BEGIN:DAYLIGHT
TZOFFSETFROM:+0100
TZOFFSETTO:+0200
TZNAME:CEST
DTSTART:20220327T010000
END:DAYLIGHT
BEGIN:STANDARD
TZOFFSETFROM:+0200
TZOFFSETTO:+0100
TZNAME:CET
DTSTART:20221030T010000
END:STANDARD
BEGIN:DAYLIGHT
TZOFFSETFROM:+0100
TZOFFSETTO:+0200
TZNAME:CEST
DTSTART:20230326T010000
END:DAYLIGHT
BEGIN:STANDARD
TZOFFSETFROM:+0200
TZOFFSETTO:+0100
TZNAME:CET
DTSTART:20231029T010000
END:STANDARD
BEGIN:DAYLIGHT
TZOFFSETFROM:+0100
TZOFFSETTO:+0200
TZNAME:CEST
DTSTART:20240331T010000
END:DAYLIGHT
BEGIN:STANDARD
TZOFFSETFROM:+0200
TZOFFSETTO:+0100
TZNAME:CET
DTSTART:20241027T010000
END:STANDARD
END:VTIMEZONE
BEGIN:VEVENT
DTSTART;TZID=Europe/Paris:20231020T200000
DTEND;TZID=Europe/Paris:20231020T210000
DTSTAMP:20260424T140847
CREATED:20231004T114255Z
LAST-MODIFIED:20231004T114603Z
UID:10000078-1697832000-1697835600@essevesse.com
SUMMARY:La Commedia Divina #like4like à la semaine italienne d’Avignon 2023
DESCRIPTION:La Cie Essevesse est invitée à rejoué La Commedia Divina #like4like à Avignon. Après avoir jouée au OFF d’Avignon 2022 au Théâtre Golovine\, où nos artistes ont été associés pendant 2 années\, cete pièce inspirée de la Comédie de Dante sera reproposé dans le cadre de la semaine italienne 2023 au Théâtre de l’Oulle.
URL:https://essevesse.com/event/la-commedia-divina-like4like-a-la-semaine-italienne-davignon/
LOCATION:Théâtre de l’Oulle\, 19 Pl. Crillon\, Avignon\, 84000\, France
ATTACH;FMTTYPE=image/jpeg:https://essevesse.com/wp-content/uploads/2022/08/20220621_003653-1-scaled.jpg
END:VEVENT
END:VCALENDAR